BEGIN:VCALENDAR
VERSION:2.0
PRODID:-//Forbairt Pobail Mhaigh Cuilinn (Maigh Cuilinn Community Development Association) - ECPv6.15.20//NONSGML v1.0//EN
CALSCALE:GREGORIAN
METHOD:PUBLISH
X-ORIGINAL-URL:https://maighcuilinn.net
X-WR-CALDESC:Events for Forbairt Pobail Mhaigh Cuilinn (Maigh Cuilinn Community Development Association)
REFRESH-INTERVAL;VALUE=DURATION:PT1H
X-Robots-Tag:noindex
X-PUBLISHED-TTL:PT1H
BEGIN:VTIMEZONE
TZID:Europe/Dublin
BEGIN:DAYLIGHT
TZOFFSETFROM:+0000
TZOFFSETTO:+0100
TZNAME:IST
DTSTART:20250330T010000
END:DAYLIGHT
BEGIN:STANDARD
TZOFFSETFROM:+0100
TZOFFSETTO:+0000
TZNAME:GMT
DTSTART:20251026T010000
END:STANDARD
BEGIN:DAYLIGHT
TZOFFSETFROM:+0000
TZOFFSETTO:+0100
TZNAME:IST
DTSTART:20260329T010000
END:DAYLIGHT
BEGIN:STANDARD
TZOFFSETFROM:+0100
TZOFFSETTO:+0000
TZNAME:GMT
DTSTART:20261025T010000
END:STANDARD
BEGIN:DAYLIGHT
TZOFFSETFROM:+0000
TZOFFSETTO:+0100
TZNAME:IST
DTSTART:20270328T010000
END:DAYLIGHT
BEGIN:STANDARD
TZOFFSETFROM:+0100
TZOFFSETTO:+0000
TZNAME:GMT
DTSTART:20271031T010000
END:STANDARD
END:VTIMEZONE
BEGIN:VEVENT
DTSTART;TZID=Europe/Dublin:20260427T103000
DTEND;TZID=Europe/Dublin:20260427T123000
DTSTAMP:20260423T121803
CREATED:20260205T180734Z
LAST-MODIFIED:20260206T192804Z
UID:10003049-1777285800-1777293000@maighcuilinn.net
SUMMARY:Active Retirement
DESCRIPTION:Moycullen Activities & Social Group – Active Retirement \nMeet on Monday mornings and go on outings throughout the year. \nTo join or for information contact mo***********************@***il.com
URL:https://maighcuilinn.net/event/active-retirement/2026-04-27/
LOCATION:Seomra Glas\, Áras Uilinn\, Maigh Cuilinn\, Co. na Gaillimhe\, Ireland
CATEGORIES:Seomra Glas
END:VEVENT
BEGIN:VEVENT
DTSTART;TZID=Europe/Dublin:20260427T144500
DTEND;TZID=Europe/Dublin:20260427T164500
DTSTAMP:20260423T121803
CREATED:20260205T180734Z
LAST-MODIFIED:20260206T192731Z
UID:10003030-1777301100-1777308300@maighcuilinn.net
SUMMARY:Phoenix Stage School
DESCRIPTION:For details contact cl****@****************ol.com or 086 400 8033 \n\nGALWAY’S LEADING DANCE DRAMA SINGING STAGE SCHOOL\n \nPhoenix Stage School provides education\, entertainment and recreation for over 200 students aged 5 through to 18 years in a lively and nurturing environment through dance and musical theatre. \nWe offer a wide range of classes in Jazz\, Lyrical\, Hiphop\, Ballet\, Technique\, Musical Theatre\, Singing and Drama. \nIf your child simply loves to perform\, dance\, sing and act\, we invite them to join the fun at Phoenix Stage School and be a part of something fabulous!
URL:https://maighcuilinn.net/event/phoenix-stage-school/2026-04-27/
LOCATION:Seomra Glas\,Áras\,Halla
CATEGORIES:Multiple rooms
ATTACH;FMTTYPE=image/jpeg:https://maighcuilinn.net/wp-content/uploads/Phoenix-Stage-School-2023-logo.jpg
END:VEVENT
BEGIN:VEVENT
DTSTART;TZID=Europe/Dublin:20260427T170000
DTEND;TZID=Europe/Dublin:20260427T180000
DTSTAMP:20260423T121803
CREATED:20260205T180735Z
LAST-MODIFIED:20260206T192627Z
UID:10003011-1777309200-1777312800@maighcuilinn.net
SUMMARY:Irish Dance
DESCRIPTION:Irish Dance classes \nContact ar****************@***il.com or 086 608 1546 for details
URL:https://maighcuilinn.net/event/irish-dance/2026-04-27/
LOCATION:Áras\, Áras Uilinn\, Maigh Cuilinn\, Co. na Gaillimhe
CATEGORIES:Áras
END:VEVENT
BEGIN:VEVENT
DTSTART;TZID=Europe/Dublin:20260427T190000
DTEND;TZID=Europe/Dublin:20260427T210000
DTSTAMP:20260423T121803
CREATED:20260205T180746Z
LAST-MODIFIED:20260206T192432Z
UID:10002992-1777316400-1777323600@maighcuilinn.net
SUMMARY:Bridge
DESCRIPTION:
URL:https://maighcuilinn.net/event/bridge-2/2026-04-27/
LOCATION:Seomra Glas\, Áras Uilinn\, Maigh Cuilinn\, Co. na Gaillimhe\, Ireland
CATEGORIES:Seomra Glas
END:VEVENT
BEGIN:VEVENT
DTSTART;TZID=Europe/Dublin:20260427T210000
DTEND;TZID=Europe/Dublin:20260427T220000
DTSTAMP:20260423T121803
CREATED:20260205T180747Z
LAST-MODIFIED:20260206T192342Z
UID:10002941-1777323600-1777327200@maighcuilinn.net
SUMMARY:Booking
DESCRIPTION:
URL:https://maighcuilinn.net/event/booking-2/2026-04-27/
LOCATION:Áras\, Áras Uilinn\, Maigh Cuilinn\, Co. na Gaillimhe
CATEGORIES:Áras
END:VEVENT
BEGIN:VEVENT
DTSTART;TZID=Europe/Dublin:20260428T160000
DTEND;TZID=Europe/Dublin:20260428T190000
DTSTAMP:20260423T121803
CREATED:20260205T180747Z
LAST-MODIFIED:20260206T192306Z
UID:10002922-1777392000-1777402800@maighcuilinn.net
SUMMARY:Power Soccer
DESCRIPTION:For details contact in**************@***il.com or 0861956424 \n\nPower Soccer provides excellent soccer coaching for boys and girls in Galway City and County. We train indoors from September to June and outdoors for our summer camps in July and August. Boys and girls aged 3yrs up can join Power Soccer School of Excellence! Players aged 10yrs+ can join the Power Academy.
URL:https://maighcuilinn.net/event/power-soccer/2026-04-28/
LOCATION:Halla\, Scoil Mhuire\, Maigh Cuilinn\, Co. na Gaillimhe
CATEGORIES:Halla Mór
ATTACH;FMTTYPE=image/png:https://maighcuilinn.net/wp-content/uploads/powersoccer.png
END:VEVENT
BEGIN:VEVENT
DTSTART;TZID=Europe/Dublin:20260428T194500
DTEND;TZID=Europe/Dublin:20260428T211500
DTSTAMP:20260423T121803
CREATED:20260205T180939Z
LAST-MODIFIED:20260206T192223Z
UID:10002903-1777405500-1777410900@maighcuilinn.net
SUMMARY:Yoga
DESCRIPTION:Yoga classes on Tuesday evenings \nFor more information contact Sandra 085 825 0648 or sa**************@***il.com
URL:https://maighcuilinn.net/event/yoga/2026-04-28/
LOCATION:Seomra Glas\, Áras Uilinn\, Maigh Cuilinn\, Co. na Gaillimhe\, Ireland
CATEGORIES:Seomra Glas
ATTACH;FMTTYPE=image/jpeg:https://maighcuilinn.net/wp-content/uploads/yoga-2-e1757616031451-sMk1kv.tmp_.jpg
END:VEVENT
BEGIN:VEVENT
DTSTART;TZID=Europe/Dublin:20260429T133000
DTEND;TZID=Europe/Dublin:20260429T164500
DTSTAMP:20260423T121803
CREATED:20260205T180940Z
LAST-MODIFIED:20260206T192142Z
UID:10002884-1777469400-1777481100@maighcuilinn.net
SUMMARY:Irish Dance
DESCRIPTION:Irish Dance classes \nContact ar****************@***il.com or 086 608 1546 for details
URL:https://maighcuilinn.net/event/irish-dance-2/2026-04-29/
LOCATION:Áras\, Áras Uilinn\, Maigh Cuilinn\, Co. na Gaillimhe
CATEGORIES:Áras
END:VEVENT
BEGIN:VEVENT
DTSTART;TZID=Europe/Dublin:20260429T154500
DTEND;TZID=Europe/Dublin:20260429T184500
DTSTAMP:20260423T121803
CREATED:20260205T180941Z
LAST-MODIFIED:20260206T192051Z
UID:10002865-1777477500-1777488300@maighcuilinn.net
SUMMARY:Project Fashion
DESCRIPTION:For details contact in**@************on.ie or 01 223 4492. \n\nUnleash your child’s creativity\, train them up in a skill that will last a lifetime and get hands on experience in a fun and educational way at our Fashion Design Workshops for children and teenagers.
URL:https://maighcuilinn.net/event/project-fashion/2026-04-29/
LOCATION:Seomra Glas\, Áras Uilinn\, Maigh Cuilinn\, Co. na Gaillimhe\, Ireland
CATEGORIES:Seomra Glas
ATTACH;FMTTYPE=image/png:https://maighcuilinn.net/wp-content/uploads/Project-Fashion-Logo-600-400x71-1.png
END:VEVENT
BEGIN:VEVENT
DTSTART;TZID=Europe/Dublin:20260429T160000
DTEND;TZID=Europe/Dublin:20260429T200000
DTSTAMP:20260423T121803
CREATED:20260205T180942Z
LAST-MODIFIED:20260206T191835Z
UID:10002846-1777478400-1777492800@maighcuilinn.net
SUMMARY:Drumadore
DESCRIPTION:For details contact 085 7238887 or dr****************@***il.com \n\nDrumadore is Ireland’s largest provider of group drumming lessons\, offering a fun and engaging way to learn drumming while building friendships and benefiting from the power of music. Our goal is to provide a clear pathway for students of all ages\, from beginners to aspiring professionals\, to develop their drumming skills over time.
URL:https://maighcuilinn.net/event/drumadore/2026-04-29/
LOCATION:Halla\, Scoil Mhuire\, Maigh Cuilinn\, Co. na Gaillimhe
CATEGORIES:Halla Mór
ATTACH;FMTTYPE=image/jpeg:https://maighcuilinn.net/wp-content/uploads/drumadore-schedule.jpg
END:VEVENT
BEGIN:VEVENT
DTSTART;TZID=Europe/Dublin:20260429T201500
DTEND;TZID=Europe/Dublin:20260429T221500
DTSTAMP:20260423T121803
CREATED:20260205T180944Z
LAST-MODIFIED:20260206T191800Z
UID:10002795-1777493700-1777500900@maighcuilinn.net
SUMMARY:Church of Christ
DESCRIPTION:Church of Christ services
URL:https://maighcuilinn.net/event/church-of-christ-2/2026-04-29/
LOCATION:Áras\, Áras Uilinn\, Maigh Cuilinn\, Co. na Gaillimhe
CATEGORIES:Áras
END:VEVENT
BEGIN:VEVENT
DTSTART;TZID=Europe/Dublin:20260430T100000
DTEND;TZID=Europe/Dublin:20260430T123000
DTSTAMP:20260423T121803
CREATED:20260205T181139Z
LAST-MODIFIED:20260206T191730Z
UID:10002776-1777543200-1777552200@maighcuilinn.net
SUMMARY:Art (Botanical art class)
DESCRIPTION:For details contact la**********@***il.com or 086 856 8185 \n\nLearn to draw and paint a variety of botanical subjects in a supportive and relaxed setting with small classes and individual attention. Students are encouraged to proceed at their own pace. Emphasis is placed on basic drawing and painting techniques\, development of observational skills\, composition\, colour theory and use of materials. \nSuitable for Beginners & Intermediates
URL:https://maighcuilinn.net/event/art-botanical-art-class/2026-04-30/
LOCATION:Seomra Glas\, Áras Uilinn\, Maigh Cuilinn\, Co. na Gaillimhe\, Ireland
CATEGORIES:Seomra Glas
END:VEVENT
BEGIN:VEVENT
DTSTART;TZID=Europe/Dublin:20260430T143000
DTEND;TZID=Europe/Dublin:20260430T153000
DTSTAMP:20260423T121803
CREATED:20260205T181139Z
LAST-MODIFIED:20260206T191659Z
UID:10002757-1777559400-1777563000@maighcuilinn.net
SUMMARY:Irish Dance
DESCRIPTION:Irish Dance classes \nContact ar****************@***il.com or 086 608 1546 for details
URL:https://maighcuilinn.net/event/irish-dance-3/2026-04-30/
LOCATION:Áras\, Áras Uilinn\, Maigh Cuilinn\, Co. na Gaillimhe
CATEGORIES:Áras
END:VEVENT
BEGIN:VEVENT
DTSTART;TZID=Europe/Dublin:20260430T170000
DTEND;TZID=Europe/Dublin:20260430T183000
DTSTAMP:20260423T121803
CREATED:20260205T181140Z
LAST-MODIFIED:20260206T191627Z
UID:10002738-1777568400-1777573800@maighcuilinn.net
SUMMARY:Irish Dance
DESCRIPTION:Irish Dance classes \nContact ar****************@***il.com or 086 608 1546 for details \nNOW ENROLLING -NEW BEGINNERS \nGirls and Boys age 4 and up. \nClasses will start the week beginning September 8th. \nWhatsApp me if you have any questions.
URL:https://maighcuilinn.net/event/irish-dance-4/2026-04-30/
LOCATION:Áras\, Áras Uilinn\, Maigh Cuilinn\, Co. na Gaillimhe
CATEGORIES:Áras
END:VEVENT
BEGIN:VEVENT
DTSTART;TZID=Europe/Dublin:20260430T170000
DTEND;TZID=Europe/Dublin:20260430T190000
DTSTAMP:20260423T121803
CREATED:20260205T181140Z
LAST-MODIFIED:20260206T191526Z
UID:10002719-1777568400-1777575600@maighcuilinn.net
SUMMARY:Karate
DESCRIPTION:Karate classes \nFor enquires contact mo*****************@***il.com or 086 275 1244.
URL:https://maighcuilinn.net/event/karate/2026-04-30/
LOCATION:Halla\, Scoil Mhuire\, Maigh Cuilinn\, Co. na Gaillimhe
CATEGORIES:Halla Mór
ATTACH;FMTTYPE=image/jpeg:https://maighcuilinn.net/wp-content/uploads/Moycullen-Karate.jpg
END:VEVENT
BEGIN:VEVENT
DTSTART;TZID=Europe/Dublin:20260430T190000
DTEND;TZID=Europe/Dublin:20260430T204500
DTSTAMP:20260423T121803
CREATED:20260205T181141Z
LAST-MODIFIED:20260206T191427Z
UID:10002700-1777575600-1777581900@maighcuilinn.net
SUMMARY:Zumba
DESCRIPTION:For enquires contact Bernie – zu*********@***il.com or 087 603 6570 \n\nWomen’s Zumba classes \nThis class will take place once a week for a duration of 4 weeks in Halla Mór Moycullen for duration of 1 hour.
URL:https://maighcuilinn.net/event/zumba/2026-04-30/
LOCATION:Halla\, Scoil Mhuire\, Maigh Cuilinn\, Co. na Gaillimhe
CATEGORIES:Halla Mór
ATTACH;FMTTYPE=image/png:https://maighcuilinn.net/wp-content/uploads/zumba.png
END:VEVENT
BEGIN:VEVENT
DTSTART;TZID=Europe/Dublin:20260430T190000
DTEND;TZID=Europe/Dublin:20260430T220000
DTSTAMP:20260423T121803
CREATED:20260205T181339Z
LAST-MODIFIED:20260206T191308Z
UID:10002681-1777575600-1777586400@maighcuilinn.net
SUMMARY:Bingo
DESCRIPTION:Community Bingo – Thursday evenings \n\nContact ke*******@*****il.com for details
URL:https://maighcuilinn.net/event/bingo/2026-04-30/
LOCATION:Áras\, Áras Uilinn\, Maigh Cuilinn\, Co. na Gaillimhe
CATEGORIES:Áras
ATTACH;FMTTYPE=image/jpeg:https://maighcuilinn.net/wp-content/uploads/community-bingo.jpg
END:VEVENT
BEGIN:VEVENT
DTSTART;TZID=Europe/Dublin:20260430T210000
DTEND;TZID=Europe/Dublin:20260430T220000
DTSTAMP:20260423T121803
CREATED:20260205T181340Z
LAST-MODIFIED:20260206T191010Z
UID:10002592-1777582800-1777586400@maighcuilinn.net
SUMMARY:Basketball
DESCRIPTION:
URL:https://maighcuilinn.net/event/basketball/2026-04-30/
LOCATION:Halla\, Scoil Mhuire\, Maigh Cuilinn\, Co. na Gaillimhe
CATEGORIES:Halla Mór
END:VEVENT
BEGIN:VEVENT
DTSTART;TZID=Europe/Dublin:20260501T133000
DTEND;TZID=Europe/Dublin:20260501T154500
DTSTAMP:20260423T121803
CREATED:20260205T181341Z
LAST-MODIFIED:20260206T190719Z
UID:10002573-1777642200-1777650300@maighcuilinn.net
SUMMARY:Irish Dance
DESCRIPTION:Irish Dance classes \nContact ar****************@***il.com or 086 608 1546 for details
URL:https://maighcuilinn.net/event/irish-dance-5/2026-05-01/
LOCATION:Áras\, Áras Uilinn\, Maigh Cuilinn\, Co. na Gaillimhe
CATEGORIES:Áras
END:VEVENT
BEGIN:VEVENT
DTSTART;TZID=Europe/Dublin:20260501T153000
DTEND;TZID=Europe/Dublin:20260501T180000
DTSTAMP:20260423T121803
CREATED:20260205T181342Z
LAST-MODIFIED:20260206T190543Z
UID:10002554-1777649400-1777658400@maighcuilinn.net
SUMMARY:Scoil Mhuire
DESCRIPTION:
URL:https://maighcuilinn.net/event/scoil-mhuire/2026-05-01/
LOCATION:Halla\, Scoil Mhuire\, Maigh Cuilinn\, Co. na Gaillimhe
CATEGORIES:Halla Mór
END:VEVENT
BEGIN:VEVENT
DTSTART;TZID=Europe/Dublin:20260501T190000
DTEND;TZID=Europe/Dublin:20260501T200000
DTSTAMP:20260423T121803
CREATED:20260205T181342Z
LAST-MODIFIED:20260206T190447Z
UID:10002503-1777662000-1777665600@maighcuilinn.net
SUMMARY:Ladies Basketball
DESCRIPTION:
URL:https://maighcuilinn.net/event/ladies-basketball/2026-05-01/
LOCATION:Halla\, Scoil Mhuire\, Maigh Cuilinn\, Co. na Gaillimhe
CATEGORIES:Halla Mór
END:VEVENT
BEGIN:VEVENT
DTSTART;TZID=Europe/Dublin:20260501T200000
DTEND;TZID=Europe/Dublin:20260501T213000
DTSTAMP:20260423T121803
CREATED:20260205T181539Z
LAST-MODIFIED:20260206T190255Z
UID:10002484-1777665600-1777671000@maighcuilinn.net
SUMMARY:Foróige Youth Club
DESCRIPTION:Foróige Youth Club – contact fo******************@***il.com for details
URL:https://maighcuilinn.net/event/foroige-youth-club-2/2026-05-01/
LOCATION:Seomra Glas\,Áras
CATEGORIES:Multiple rooms
ATTACH;FMTTYPE=image/jpeg:https://maighcuilinn.net/wp-content/uploads/81-Foroige-3375604853.jpg
END:VEVENT
BEGIN:VEVENT
DTSTART;TZID=Europe/Dublin:20260502T091500
DTEND;TZID=Europe/Dublin:20260502T101500
DTSTAMP:20260423T121803
CREATED:20260205T181541Z
LAST-MODIFIED:20260206T190212Z
UID:10002465-1777713300-1777716900@maighcuilinn.net
SUMMARY:Irish Dance
DESCRIPTION:Irish Dance classes \nContact ar****************@***il.com or 086 608 1546 for details
URL:https://maighcuilinn.net/event/irish-dance-6/2026-05-02/
LOCATION:Áras\, Áras Uilinn\, Maigh Cuilinn\, Co. na Gaillimhe
CATEGORIES:Áras
END:VEVENT
BEGIN:VEVENT
DTSTART;TZID=Europe/Dublin:20260502T093000
DTEND;TZID=Europe/Dublin:20260502T120000
DTSTAMP:20260423T121803
CREATED:20260205T181541Z
LAST-MODIFIED:20260206T190128Z
UID:10002446-1777714200-1777723200@maighcuilinn.net
SUMMARY:Little Kickers
DESCRIPTION:For information contact ps******@***********rs.ie or 0851813898. \n\nPre-school football classes for ages 1 to 5
URL:https://maighcuilinn.net/event/little-kickers/2026-05-02/
LOCATION:Halla\, Scoil Mhuire\, Maigh Cuilinn\, Co. na Gaillimhe
CATEGORIES:Halla Mór
ATTACH;FMTTYPE=image/jpeg:https://maighcuilinn.net/wp-content/uploads/littlekickers-galway.jpg
END:VEVENT
BEGIN:VEVENT
DTSTART;TZID=Europe/Dublin:20260502T110000
DTEND;TZID=Europe/Dublin:20260502T121500
DTSTAMP:20260423T121803
CREATED:20260205T181542Z
LAST-MODIFIED:20260206T190049Z
UID:10002427-1777719600-1777724100@maighcuilinn.net
SUMMARY:Emerald Chess Club
DESCRIPTION:Chess club
URL:https://maighcuilinn.net/event/emerald-chess-club/2026-05-02/
LOCATION:Áras\, Áras Uilinn\, Maigh Cuilinn\, Co. na Gaillimhe
CATEGORIES:Áras
ATTACH;FMTTYPE=image/png:https://maighcuilinn.net/wp-content/uploads/emeraldknights-chess-club.png
END:VEVENT
BEGIN:VEVENT
DTSTART;TZID=Europe/Dublin:20260502T120000
DTEND;TZID=Europe/Dublin:20260502T150000
DTSTAMP:20260423T121803
CREATED:20260205T181543Z
LAST-MODIFIED:20260206T185956Z
UID:10002408-1777723200-1777734000@maighcuilinn.net
SUMMARY:Basketball
DESCRIPTION:Youth basketball classes
URL:https://maighcuilinn.net/event/basketball-2/2026-05-02/
LOCATION:Halla\, Scoil Mhuire\, Maigh Cuilinn\, Co. na Gaillimhe
CATEGORIES:Halla Mór
END:VEVENT
BEGIN:VEVENT
DTSTART;TZID=Europe/Dublin:20260502T160000
DTEND;TZID=Europe/Dublin:20260502T170000
DTSTAMP:20260423T121803
CREATED:20260205T181739Z
LAST-MODIFIED:20260206T185923Z
UID:10002389-1777737600-1777741200@maighcuilinn.net
SUMMARY:Basketball
DESCRIPTION:Youth basketball classes
URL:https://maighcuilinn.net/event/basketball-3/2026-05-02/
LOCATION:Halla\, Scoil Mhuire\, Maigh Cuilinn\, Co. na Gaillimhe
CATEGORIES:Halla Mór
END:VEVENT
BEGIN:VEVENT
DTSTART;TZID=Europe/Dublin:20260503T103000
DTEND;TZID=Europe/Dublin:20260503T143000
DTSTAMP:20260423T121803
CREATED:20260205T181739Z
LAST-MODIFIED:20260206T185815Z
UID:10002338-1777804200-1777818600@maighcuilinn.net
SUMMARY:Church of Christ
DESCRIPTION:Church of Christ services
URL:https://maighcuilinn.net/event/church-of-christ-3/2026-05-03/
LOCATION:Áras\, Áras Uilinn\, Maigh Cuilinn\, Co. na Gaillimhe
CATEGORIES:Áras
END:VEVENT
BEGIN:VEVENT
DTSTART;TZID=Europe/Dublin:20260503T200000
DTEND;TZID=Europe/Dublin:20260503T210000
DTSTAMP:20260423T121803
CREATED:20260205T181739Z
LAST-MODIFIED:20260205T195141Z
UID:10002078-1777838400-1777842000@maighcuilinn.net
SUMMARY:Booking
DESCRIPTION:
URL:https://maighcuilinn.net/event/booking-3/2026-05-03/
LOCATION:Áras\, Áras Uilinn\, Maigh Cuilinn\, Co. na Gaillimhe
CATEGORIES:Áras
END:VEVENT
END:VCALENDAR