BEGIN:VCALENDAR
VERSION:2.0
PRODID:-//Forbairt Pobail Mhaigh Cuilinn (Maigh Cuilinn Community Development Association) - ECPv6.15.20//NONSGML v1.0//EN
CALSCALE:GREGORIAN
METHOD:PUBLISH
X-ORIGINAL-URL:https://maighcuilinn.net
X-WR-CALDESC:Events for Forbairt Pobail Mhaigh Cuilinn (Maigh Cuilinn Community Development Association)
REFRESH-INTERVAL;VALUE=DURATION:PT1H
X-Robots-Tag:noindex
X-PUBLISHED-TTL:PT1H
BEGIN:VTIMEZONE
TZID:Europe/Dublin
BEGIN:DAYLIGHT
TZOFFSETFROM:+0000
TZOFFSETTO:+0100
TZNAME:IST
DTSTART:20250330T010000
END:DAYLIGHT
BEGIN:STANDARD
TZOFFSETFROM:+0100
TZOFFSETTO:+0000
TZNAME:GMT
DTSTART:20251026T010000
END:STANDARD
BEGIN:DAYLIGHT
TZOFFSETFROM:+0000
TZOFFSETTO:+0100
TZNAME:IST
DTSTART:20260329T010000
END:DAYLIGHT
BEGIN:STANDARD
TZOFFSETFROM:+0100
TZOFFSETTO:+0000
TZNAME:GMT
DTSTART:20261025T010000
END:STANDARD
BEGIN:DAYLIGHT
TZOFFSETFROM:+0000
TZOFFSETTO:+0100
TZNAME:IST
DTSTART:20270328T010000
END:DAYLIGHT
BEGIN:STANDARD
TZOFFSETFROM:+0100
TZOFFSETTO:+0000
TZNAME:GMT
DTSTART:20271031T010000
END:STANDARD
END:VTIMEZONE
BEGIN:VEVENT
DTSTART;TZID=Europe/Dublin:20260426T200000
DTEND;TZID=Europe/Dublin:20260426T210000
DTSTAMP:20260423T092437
CREATED:20260205T181739Z
LAST-MODIFIED:20260205T195141Z
UID:10002077-1777233600-1777237200@maighcuilinn.net
SUMMARY:Booking
DESCRIPTION:
URL:https://maighcuilinn.net/event/booking-3/2026-04-26/
LOCATION:Áras\, Áras Uilinn\, Maigh Cuilinn\, Co. na Gaillimhe
CATEGORIES:Áras
END:VEVENT
BEGIN:VEVENT
DTSTART;TZID=Europe/Dublin:20260503T200000
DTEND;TZID=Europe/Dublin:20260503T210000
DTSTAMP:20260423T092437
CREATED:20260205T181739Z
LAST-MODIFIED:20260205T195141Z
UID:10002078-1777838400-1777842000@maighcuilinn.net
SUMMARY:Booking
DESCRIPTION:
URL:https://maighcuilinn.net/event/booking-3/2026-05-03/
LOCATION:Áras\, Áras Uilinn\, Maigh Cuilinn\, Co. na Gaillimhe
CATEGORIES:Áras
END:VEVENT
BEGIN:VEVENT
DTSTART;TZID=Europe/Dublin:20260510T200000
DTEND;TZID=Europe/Dublin:20260510T210000
DTSTAMP:20260423T092437
CREATED:20260205T181739Z
LAST-MODIFIED:20260205T195141Z
UID:10002079-1778443200-1778446800@maighcuilinn.net
SUMMARY:Booking
DESCRIPTION:
URL:https://maighcuilinn.net/event/booking-3/2026-05-10/
LOCATION:Áras\, Áras Uilinn\, Maigh Cuilinn\, Co. na Gaillimhe
CATEGORIES:Áras
END:VEVENT
BEGIN:VEVENT
DTSTART;TZID=Europe/Dublin:20260517T200000
DTEND;TZID=Europe/Dublin:20260517T210000
DTSTAMP:20260423T092437
CREATED:20260205T181739Z
LAST-MODIFIED:20260205T195141Z
UID:10002080-1779048000-1779051600@maighcuilinn.net
SUMMARY:Booking
DESCRIPTION:
URL:https://maighcuilinn.net/event/booking-3/2026-05-17/
LOCATION:Áras\, Áras Uilinn\, Maigh Cuilinn\, Co. na Gaillimhe
CATEGORIES:Áras
END:VEVENT
BEGIN:VEVENT
DTSTART;TZID=Europe/Dublin:20260524T200000
DTEND;TZID=Europe/Dublin:20260524T210000
DTSTAMP:20260423T092437
CREATED:20260205T181739Z
LAST-MODIFIED:20260205T195141Z
UID:10002081-1779652800-1779656400@maighcuilinn.net
SUMMARY:Booking
DESCRIPTION:
URL:https://maighcuilinn.net/event/booking-3/2026-05-24/
LOCATION:Áras\, Áras Uilinn\, Maigh Cuilinn\, Co. na Gaillimhe
CATEGORIES:Áras
END:VEVENT
BEGIN:VEVENT
DTSTART;TZID=Europe/Dublin:20260531T200000
DTEND;TZID=Europe/Dublin:20260531T210000
DTSTAMP:20260423T092437
CREATED:20260205T181739Z
LAST-MODIFIED:20260205T195141Z
UID:10002082-1780257600-1780261200@maighcuilinn.net
SUMMARY:Booking
DESCRIPTION:
URL:https://maighcuilinn.net/event/booking-3/2026-05-31/
LOCATION:Áras\, Áras Uilinn\, Maigh Cuilinn\, Co. na Gaillimhe
CATEGORIES:Áras
END:VEVENT
BEGIN:VEVENT
DTSTART;TZID=Europe/Dublin:20260607T200000
DTEND;TZID=Europe/Dublin:20260607T210000
DTSTAMP:20260423T092437
CREATED:20260205T181739Z
LAST-MODIFIED:20260205T195141Z
UID:10002083-1780862400-1780866000@maighcuilinn.net
SUMMARY:Booking
DESCRIPTION:
URL:https://maighcuilinn.net/event/booking-3/2026-06-07/
LOCATION:Áras\, Áras Uilinn\, Maigh Cuilinn\, Co. na Gaillimhe
CATEGORIES:Áras
END:VEVENT
BEGIN:VEVENT
DTSTART;TZID=Europe/Dublin:20260614T200000
DTEND;TZID=Europe/Dublin:20260614T210000
DTSTAMP:20260423T092437
CREATED:20260205T181739Z
LAST-MODIFIED:20260205T195141Z
UID:10002084-1781467200-1781470800@maighcuilinn.net
SUMMARY:Booking
DESCRIPTION:
URL:https://maighcuilinn.net/event/booking-3/2026-06-14/
LOCATION:Áras\, Áras Uilinn\, Maigh Cuilinn\, Co. na Gaillimhe
CATEGORIES:Áras
END:VEVENT
BEGIN:VEVENT
DTSTART;TZID=Europe/Dublin:20260621T200000
DTEND;TZID=Europe/Dublin:20260621T210000
DTSTAMP:20260423T092437
CREATED:20260205T181739Z
LAST-MODIFIED:20260205T195141Z
UID:10002085-1782072000-1782075600@maighcuilinn.net
SUMMARY:Booking
DESCRIPTION:
URL:https://maighcuilinn.net/event/booking-3/2026-06-21/
LOCATION:Áras\, Áras Uilinn\, Maigh Cuilinn\, Co. na Gaillimhe
CATEGORIES:Áras
END:VEVENT
BEGIN:VEVENT
DTSTART;TZID=Europe/Dublin:20260628T200000
DTEND;TZID=Europe/Dublin:20260628T210000
DTSTAMP:20260423T092437
CREATED:20260205T181739Z
LAST-MODIFIED:20260205T195141Z
UID:10002086-1782676800-1782680400@maighcuilinn.net
SUMMARY:Booking
DESCRIPTION:
URL:https://maighcuilinn.net/event/booking-3/2026-06-28/
LOCATION:Áras\, Áras Uilinn\, Maigh Cuilinn\, Co. na Gaillimhe
CATEGORIES:Áras
END:VEVENT
BEGIN:VEVENT
DTSTART;TZID=Europe/Dublin:20260705T200000
DTEND;TZID=Europe/Dublin:20260705T210000
DTSTAMP:20260423T092437
CREATED:20260205T181739Z
LAST-MODIFIED:20260205T195141Z
UID:10002087-1783281600-1783285200@maighcuilinn.net
SUMMARY:Booking
DESCRIPTION:
URL:https://maighcuilinn.net/event/booking-3/2026-07-05/
LOCATION:Áras\, Áras Uilinn\, Maigh Cuilinn\, Co. na Gaillimhe
CATEGORIES:Áras
END:VEVENT
BEGIN:VEVENT
DTSTART;TZID=Europe/Dublin:20260712T200000
DTEND;TZID=Europe/Dublin:20260712T210000
DTSTAMP:20260423T092437
CREATED:20260205T181739Z
LAST-MODIFIED:20260205T195141Z
UID:10002088-1783886400-1783890000@maighcuilinn.net
SUMMARY:Booking
DESCRIPTION:
URL:https://maighcuilinn.net/event/booking-3/2026-07-12/
LOCATION:Áras\, Áras Uilinn\, Maigh Cuilinn\, Co. na Gaillimhe
CATEGORIES:Áras
END:VEVENT
BEGIN:VEVENT
DTSTART;TZID=Europe/Dublin:20260719T200000
DTEND;TZID=Europe/Dublin:20260719T210000
DTSTAMP:20260423T092437
CREATED:20260205T181739Z
LAST-MODIFIED:20260205T195141Z
UID:10002089-1784491200-1784494800@maighcuilinn.net
SUMMARY:Booking
DESCRIPTION:
URL:https://maighcuilinn.net/event/booking-3/2026-07-19/
LOCATION:Áras\, Áras Uilinn\, Maigh Cuilinn\, Co. na Gaillimhe
CATEGORIES:Áras
END:VEVENT
BEGIN:VEVENT
DTSTART;TZID=Europe/Dublin:20260726T200000
DTEND;TZID=Europe/Dublin:20260726T210000
DTSTAMP:20260423T092437
CREATED:20260205T181739Z
LAST-MODIFIED:20260205T195141Z
UID:10002090-1785096000-1785099600@maighcuilinn.net
SUMMARY:Booking
DESCRIPTION:
URL:https://maighcuilinn.net/event/booking-3/2026-07-26/
LOCATION:Áras\, Áras Uilinn\, Maigh Cuilinn\, Co. na Gaillimhe
CATEGORIES:Áras
END:VEVENT
BEGIN:VEVENT
DTSTART;TZID=Europe/Dublin:20260802T200000
DTEND;TZID=Europe/Dublin:20260802T210000
DTSTAMP:20260423T092437
CREATED:20260205T181739Z
LAST-MODIFIED:20260205T195141Z
UID:10002091-1785700800-1785704400@maighcuilinn.net
SUMMARY:Booking
DESCRIPTION:
URL:https://maighcuilinn.net/event/booking-3/2026-08-02/
LOCATION:Áras\, Áras Uilinn\, Maigh Cuilinn\, Co. na Gaillimhe
CATEGORIES:Áras
END:VEVENT
BEGIN:VEVENT
DTSTART;TZID=Europe/Dublin:20260809T200000
DTEND;TZID=Europe/Dublin:20260809T210000
DTSTAMP:20260423T092437
CREATED:20260205T181739Z
LAST-MODIFIED:20260205T195141Z
UID:10002092-1786305600-1786309200@maighcuilinn.net
SUMMARY:Booking
DESCRIPTION:
URL:https://maighcuilinn.net/event/booking-3/2026-08-09/
LOCATION:Áras\, Áras Uilinn\, Maigh Cuilinn\, Co. na Gaillimhe
CATEGORIES:Áras
END:VEVENT
BEGIN:VEVENT
DTSTART;TZID=Europe/Dublin:20260816T200000
DTEND;TZID=Europe/Dublin:20260816T210000
DTSTAMP:20260423T092437
CREATED:20260205T181739Z
LAST-MODIFIED:20260205T195141Z
UID:10002093-1786910400-1786914000@maighcuilinn.net
SUMMARY:Booking
DESCRIPTION:
URL:https://maighcuilinn.net/event/booking-3/2026-08-16/
LOCATION:Áras\, Áras Uilinn\, Maigh Cuilinn\, Co. na Gaillimhe
CATEGORIES:Áras
END:VEVENT
BEGIN:VEVENT
DTSTART;TZID=Europe/Dublin:20260823T200000
DTEND;TZID=Europe/Dublin:20260823T210000
DTSTAMP:20260423T092437
CREATED:20260205T181739Z
LAST-MODIFIED:20260205T195141Z
UID:10002094-1787515200-1787518800@maighcuilinn.net
SUMMARY:Booking
DESCRIPTION:
URL:https://maighcuilinn.net/event/booking-3/2026-08-23/
LOCATION:Áras\, Áras Uilinn\, Maigh Cuilinn\, Co. na Gaillimhe
CATEGORIES:Áras
END:VEVENT
BEGIN:VEVENT
DTSTART;TZID=Europe/Dublin:20260830T200000
DTEND;TZID=Europe/Dublin:20260830T210000
DTSTAMP:20260423T092437
CREATED:20260205T181739Z
LAST-MODIFIED:20260205T195141Z
UID:10002095-1788120000-1788123600@maighcuilinn.net
SUMMARY:Booking
DESCRIPTION:
URL:https://maighcuilinn.net/event/booking-3/2026-08-30/
LOCATION:Áras\, Áras Uilinn\, Maigh Cuilinn\, Co. na Gaillimhe
CATEGORIES:Áras
END:VEVENT
BEGIN:VEVENT
DTSTART;TZID=Europe/Dublin:20260906T200000
DTEND;TZID=Europe/Dublin:20260906T210000
DTSTAMP:20260423T092437
CREATED:20260205T181739Z
LAST-MODIFIED:20260205T195141Z
UID:10002096-1788724800-1788728400@maighcuilinn.net
SUMMARY:Booking
DESCRIPTION:
URL:https://maighcuilinn.net/event/booking-3/2026-09-06/
LOCATION:Áras\, Áras Uilinn\, Maigh Cuilinn\, Co. na Gaillimhe
CATEGORIES:Áras
END:VEVENT
BEGIN:VEVENT
DTSTART;TZID=Europe/Dublin:20260913T200000
DTEND;TZID=Europe/Dublin:20260913T210000
DTSTAMP:20260423T092437
CREATED:20260205T181739Z
LAST-MODIFIED:20260205T195141Z
UID:10002097-1789329600-1789333200@maighcuilinn.net
SUMMARY:Booking
DESCRIPTION:
URL:https://maighcuilinn.net/event/booking-3/2026-09-13/
LOCATION:Áras\, Áras Uilinn\, Maigh Cuilinn\, Co. na Gaillimhe
CATEGORIES:Áras
END:VEVENT
BEGIN:VEVENT
DTSTART;TZID=Europe/Dublin:20260920T200000
DTEND;TZID=Europe/Dublin:20260920T210000
DTSTAMP:20260423T092437
CREATED:20260205T181739Z
LAST-MODIFIED:20260205T195141Z
UID:10002098-1789934400-1789938000@maighcuilinn.net
SUMMARY:Booking
DESCRIPTION:
URL:https://maighcuilinn.net/event/booking-3/2026-09-20/
LOCATION:Áras\, Áras Uilinn\, Maigh Cuilinn\, Co. na Gaillimhe
CATEGORIES:Áras
END:VEVENT
BEGIN:VEVENT
DTSTART;TZID=Europe/Dublin:20260927T200000
DTEND;TZID=Europe/Dublin:20260927T210000
DTSTAMP:20260423T092437
CREATED:20260205T181739Z
LAST-MODIFIED:20260205T195141Z
UID:10002099-1790539200-1790542800@maighcuilinn.net
SUMMARY:Booking
DESCRIPTION:
URL:https://maighcuilinn.net/event/booking-3/2026-09-27/
LOCATION:Áras\, Áras Uilinn\, Maigh Cuilinn\, Co. na Gaillimhe
CATEGORIES:Áras
END:VEVENT
BEGIN:VEVENT
DTSTART;TZID=Europe/Dublin:20261004T200000
DTEND;TZID=Europe/Dublin:20261004T210000
DTSTAMP:20260423T092437
CREATED:20260205T181739Z
LAST-MODIFIED:20260205T195141Z
UID:10002100-1791144000-1791147600@maighcuilinn.net
SUMMARY:Booking
DESCRIPTION:
URL:https://maighcuilinn.net/event/booking-3/2026-10-04/
LOCATION:Áras\, Áras Uilinn\, Maigh Cuilinn\, Co. na Gaillimhe
CATEGORIES:Áras
END:VEVENT
BEGIN:VEVENT
DTSTART;TZID=Europe/Dublin:20261011T200000
DTEND;TZID=Europe/Dublin:20261011T210000
DTSTAMP:20260423T092437
CREATED:20260205T181739Z
LAST-MODIFIED:20260205T195141Z
UID:10002101-1791748800-1791752400@maighcuilinn.net
SUMMARY:Booking
DESCRIPTION:
URL:https://maighcuilinn.net/event/booking-3/2026-10-11/
LOCATION:Áras\, Áras Uilinn\, Maigh Cuilinn\, Co. na Gaillimhe
CATEGORIES:Áras
END:VEVENT
BEGIN:VEVENT
DTSTART;TZID=Europe/Dublin:20261018T200000
DTEND;TZID=Europe/Dublin:20261018T210000
DTSTAMP:20260423T092437
CREATED:20260205T181739Z
LAST-MODIFIED:20260205T195141Z
UID:10002102-1792353600-1792357200@maighcuilinn.net
SUMMARY:Booking
DESCRIPTION:
URL:https://maighcuilinn.net/event/booking-3/2026-10-18/
LOCATION:Áras\, Áras Uilinn\, Maigh Cuilinn\, Co. na Gaillimhe
CATEGORIES:Áras
END:VEVENT
BEGIN:VEVENT
DTSTART;TZID=Europe/Dublin:20261025T200000
DTEND;TZID=Europe/Dublin:20261025T210000
DTSTAMP:20260423T092437
CREATED:20260205T181739Z
LAST-MODIFIED:20260205T195141Z
UID:10002103-1792958400-1792962000@maighcuilinn.net
SUMMARY:Booking
DESCRIPTION:
URL:https://maighcuilinn.net/event/booking-3/2026-10-25/
LOCATION:Áras\, Áras Uilinn\, Maigh Cuilinn\, Co. na Gaillimhe
CATEGORIES:Áras
END:VEVENT
BEGIN:VEVENT
DTSTART;TZID=Europe/Dublin:20261101T200000
DTEND;TZID=Europe/Dublin:20261101T210000
DTSTAMP:20260423T092437
CREATED:20260205T181739Z
LAST-MODIFIED:20260205T195141Z
UID:10002104-1793563200-1793566800@maighcuilinn.net
SUMMARY:Booking
DESCRIPTION:
URL:https://maighcuilinn.net/event/booking-3/2026-11-01/
LOCATION:Áras\, Áras Uilinn\, Maigh Cuilinn\, Co. na Gaillimhe
CATEGORIES:Áras
END:VEVENT
BEGIN:VEVENT
DTSTART;TZID=Europe/Dublin:20261108T200000
DTEND;TZID=Europe/Dublin:20261108T210000
DTSTAMP:20260423T092437
CREATED:20260205T181739Z
LAST-MODIFIED:20260205T195141Z
UID:10002105-1794168000-1794171600@maighcuilinn.net
SUMMARY:Booking
DESCRIPTION:
URL:https://maighcuilinn.net/event/booking-3/2026-11-08/
LOCATION:Áras\, Áras Uilinn\, Maigh Cuilinn\, Co. na Gaillimhe
CATEGORIES:Áras
END:VEVENT
BEGIN:VEVENT
DTSTART;TZID=Europe/Dublin:20261115T200000
DTEND;TZID=Europe/Dublin:20261115T210000
DTSTAMP:20260423T092437
CREATED:20260205T181739Z
LAST-MODIFIED:20260205T195141Z
UID:10002106-1794772800-1794776400@maighcuilinn.net
SUMMARY:Booking
DESCRIPTION:
URL:https://maighcuilinn.net/event/booking-3/2026-11-15/
LOCATION:Áras\, Áras Uilinn\, Maigh Cuilinn\, Co. na Gaillimhe
CATEGORIES:Áras
END:VEVENT
END:VCALENDAR