BEGIN:VCALENDAR
VERSION:2.0
PRODID:-//Forbairt Pobail Mhaigh Cuilinn (Maigh Cuilinn Community Development Association) - ECPv6.15.20//NONSGML v1.0//EN
CALSCALE:GREGORIAN
METHOD:PUBLISH
X-WR-CALNAME:Forbairt Pobail Mhaigh Cuilinn (Maigh Cuilinn Community Development Association)
X-ORIGINAL-URL:https://maighcuilinn.net
X-WR-CALDESC:Events for Forbairt Pobail Mhaigh Cuilinn (Maigh Cuilinn Community Development Association)
REFRESH-INTERVAL;VALUE=DURATION:PT1H
X-Robots-Tag:noindex
X-PUBLISHED-TTL:PT1H
BEGIN:VTIMEZONE
TZID:Europe/Dublin
BEGIN:DAYLIGHT
TZOFFSETFROM:+0000
TZOFFSETTO:+0100
TZNAME:IST
DTSTART:20250330T010000
END:DAYLIGHT
BEGIN:STANDARD
TZOFFSETFROM:+0100
TZOFFSETTO:+0000
TZNAME:GMT
DTSTART:20251026T010000
END:STANDARD
BEGIN:DAYLIGHT
TZOFFSETFROM:+0000
TZOFFSETTO:+0100
TZNAME:IST
DTSTART:20260329T010000
END:DAYLIGHT
BEGIN:STANDARD
TZOFFSETFROM:+0100
TZOFFSETTO:+0000
TZNAME:GMT
DTSTART:20261025T010000
END:STANDARD
BEGIN:DAYLIGHT
TZOFFSETFROM:+0000
TZOFFSETTO:+0100
TZNAME:IST
DTSTART:20270328T010000
END:DAYLIGHT
BEGIN:STANDARD
TZOFFSETFROM:+0100
TZOFFSETTO:+0000
TZNAME:GMT
DTSTART:20271031T010000
END:STANDARD
END:VTIMEZONE
BEGIN:VEVENT
DTSTART;TZID=Europe/Dublin:20260425T091500
DTEND;TZID=Europe/Dublin:20260425T101500
DTSTAMP:20260423T120044
CREATED:20260205T181541Z
LAST-MODIFIED:20260206T190212Z
UID:10002464-1777108500-1777112100@maighcuilinn.net
SUMMARY:Irish Dance
DESCRIPTION:Irish Dance classes \nContact ar****************@***il.com or 086 608 1546 for details
URL:https://maighcuilinn.net/event/irish-dance-6/2026-04-25/
LOCATION:Áras\, Áras Uilinn\, Maigh Cuilinn\, Co. na Gaillimhe
CATEGORIES:Áras
END:VEVENT
BEGIN:VEVENT
DTSTART;TZID=Europe/Dublin:20260425T093000
DTEND;TZID=Europe/Dublin:20260425T120000
DTSTAMP:20260423T120044
CREATED:20260205T181541Z
LAST-MODIFIED:20260206T190128Z
UID:10002445-1777109400-1777118400@maighcuilinn.net
SUMMARY:Little Kickers
DESCRIPTION:For information contact ps******@***********rs.ie or 0851813898. \n\nPre-school football classes for ages 1 to 5
URL:https://maighcuilinn.net/event/little-kickers/2026-04-25/
LOCATION:Halla\, Scoil Mhuire\, Maigh Cuilinn\, Co. na Gaillimhe
CATEGORIES:Halla Mór
ATTACH;FMTTYPE=image/jpeg:https://maighcuilinn.net/wp-content/uploads/littlekickers-galway.jpg
END:VEVENT
BEGIN:VEVENT
DTSTART;TZID=Europe/Dublin:20260425T110000
DTEND;TZID=Europe/Dublin:20260425T121500
DTSTAMP:20260423T120044
CREATED:20260205T181542Z
LAST-MODIFIED:20260206T190049Z
UID:10002426-1777114800-1777119300@maighcuilinn.net
SUMMARY:Emerald Chess Club
DESCRIPTION:Chess club
URL:https://maighcuilinn.net/event/emerald-chess-club/2026-04-25/
LOCATION:Áras\, Áras Uilinn\, Maigh Cuilinn\, Co. na Gaillimhe
CATEGORIES:Áras
ATTACH;FMTTYPE=image/png:https://maighcuilinn.net/wp-content/uploads/emeraldknights-chess-club.png
END:VEVENT
BEGIN:VEVENT
DTSTART;TZID=Europe/Dublin:20260425T120000
DTEND;TZID=Europe/Dublin:20260425T150000
DTSTAMP:20260423T120044
CREATED:20260205T181543Z
LAST-MODIFIED:20260206T185956Z
UID:10002407-1777118400-1777129200@maighcuilinn.net
SUMMARY:Basketball
DESCRIPTION:Youth basketball classes
URL:https://maighcuilinn.net/event/basketball-2/2026-04-25/
LOCATION:Halla\, Scoil Mhuire\, Maigh Cuilinn\, Co. na Gaillimhe
CATEGORIES:Halla Mór
END:VEVENT
BEGIN:VEVENT
DTSTART;TZID=Europe/Dublin:20260425T160000
DTEND;TZID=Europe/Dublin:20260425T170000
DTSTAMP:20260423T120044
CREATED:20260205T181739Z
LAST-MODIFIED:20260206T185923Z
UID:10002388-1777132800-1777136400@maighcuilinn.net
SUMMARY:Basketball
DESCRIPTION:Youth basketball classes
URL:https://maighcuilinn.net/event/basketball-3/2026-04-25/
LOCATION:Halla\, Scoil Mhuire\, Maigh Cuilinn\, Co. na Gaillimhe
CATEGORIES:Halla Mór
END:VEVENT
END:VCALENDAR