BEGIN:VCALENDAR
VERSION:2.0
PRODID:-//Forbairt Pobail Mhaigh Cuilinn (Maigh Cuilinn Community Development Association) - ECPv6.15.20//NONSGML v1.0//EN
CALSCALE:GREGORIAN
METHOD:PUBLISH
X-WR-CALNAME:Forbairt Pobail Mhaigh Cuilinn (Maigh Cuilinn Community Development Association)
X-ORIGINAL-URL:https://maighcuilinn.net
X-WR-CALDESC:Events for Forbairt Pobail Mhaigh Cuilinn (Maigh Cuilinn Community Development Association)
REFRESH-INTERVAL;VALUE=DURATION:PT1H
X-Robots-Tag:noindex
X-PUBLISHED-TTL:PT1H
BEGIN:VTIMEZONE
TZID:Europe/Dublin
BEGIN:DAYLIGHT
TZOFFSETFROM:+0000
TZOFFSETTO:+0100
TZNAME:IST
DTSTART:20250330T010000
END:DAYLIGHT
BEGIN:STANDARD
TZOFFSETFROM:+0100
TZOFFSETTO:+0000
TZNAME:GMT
DTSTART:20251026T010000
END:STANDARD
BEGIN:DAYLIGHT
TZOFFSETFROM:+0000
TZOFFSETTO:+0100
TZNAME:IST
DTSTART:20260329T010000
END:DAYLIGHT
BEGIN:STANDARD
TZOFFSETFROM:+0100
TZOFFSETTO:+0000
TZNAME:GMT
DTSTART:20261025T010000
END:STANDARD
BEGIN:DAYLIGHT
TZOFFSETFROM:+0000
TZOFFSETTO:+0100
TZNAME:IST
DTSTART:20270328T010000
END:DAYLIGHT
BEGIN:STANDARD
TZOFFSETFROM:+0100
TZOFFSETTO:+0000
TZNAME:GMT
DTSTART:20271031T010000
END:STANDARD
END:VTIMEZONE
BEGIN:VEVENT
DTSTART;TZID=Europe/Dublin:20260424T133000
DTEND;TZID=Europe/Dublin:20260424T154500
DTSTAMP:20260423T120045
CREATED:20260205T181341Z
LAST-MODIFIED:20260206T190719Z
UID:10002572-1777037400-1777045500@maighcuilinn.net
SUMMARY:Irish Dance
DESCRIPTION:Irish Dance classes \nContact ar****************@***il.com or 086 608 1546 for details
URL:https://maighcuilinn.net/event/irish-dance-5/2026-04-24/
LOCATION:Áras\, Áras Uilinn\, Maigh Cuilinn\, Co. na Gaillimhe
CATEGORIES:Áras
END:VEVENT
BEGIN:VEVENT
DTSTART;TZID=Europe/Dublin:20260424T153000
DTEND;TZID=Europe/Dublin:20260424T180000
DTSTAMP:20260423T120045
CREATED:20260205T181342Z
LAST-MODIFIED:20260206T190543Z
UID:10002553-1777044600-1777053600@maighcuilinn.net
SUMMARY:Scoil Mhuire
DESCRIPTION:
URL:https://maighcuilinn.net/event/scoil-mhuire/2026-04-24/
LOCATION:Halla\, Scoil Mhuire\, Maigh Cuilinn\, Co. na Gaillimhe
CATEGORIES:Halla Mór
END:VEVENT
BEGIN:VEVENT
DTSTART;TZID=Europe/Dublin:20260424T190000
DTEND;TZID=Europe/Dublin:20260424T200000
DTSTAMP:20260423T120045
CREATED:20260205T181342Z
LAST-MODIFIED:20260206T190447Z
UID:10002502-1777057200-1777060800@maighcuilinn.net
SUMMARY:Ladies Basketball
DESCRIPTION:
URL:https://maighcuilinn.net/event/ladies-basketball/2026-04-24/
LOCATION:Halla\, Scoil Mhuire\, Maigh Cuilinn\, Co. na Gaillimhe
CATEGORIES:Halla Mór
END:VEVENT
BEGIN:VEVENT
DTSTART;TZID=Europe/Dublin:20260424T200000
DTEND;TZID=Europe/Dublin:20260424T213000
DTSTAMP:20260423T120045
CREATED:20260205T181539Z
LAST-MODIFIED:20260206T190255Z
UID:10002483-1777060800-1777066200@maighcuilinn.net
SUMMARY:Foróige Youth Club
DESCRIPTION:Foróige Youth Club – contact fo******************@***il.com for details
URL:https://maighcuilinn.net/event/foroige-youth-club-2/2026-04-24/
LOCATION:Seomra Glas\,Áras
CATEGORIES:Multiple rooms
ATTACH;FMTTYPE=image/jpeg:https://maighcuilinn.net/wp-content/uploads/81-Foroige-3375604853.jpg
END:VEVENT
END:VCALENDAR