BEGIN:VCALENDAR
VERSION:2.0
PRODID:-//Forbairt Pobail Mhaigh Cuilinn (Maigh Cuilinn Community Development Association) - ECPv6.15.20//NONSGML v1.0//EN
CALSCALE:GREGORIAN
METHOD:PUBLISH
X-WR-CALNAME:Forbairt Pobail Mhaigh Cuilinn (Maigh Cuilinn Community Development Association)
X-ORIGINAL-URL:https://maighcuilinn.net
X-WR-CALDESC:Events for Forbairt Pobail Mhaigh Cuilinn (Maigh Cuilinn Community Development Association)
REFRESH-INTERVAL;VALUE=DURATION:PT1H
X-Robots-Tag:noindex
X-PUBLISHED-TTL:PT1H
BEGIN:VTIMEZONE
TZID:Europe/Dublin
BEGIN:DAYLIGHT
TZOFFSETFROM:+0000
TZOFFSETTO:+0100
TZNAME:IST
DTSTART:20250330T010000
END:DAYLIGHT
BEGIN:STANDARD
TZOFFSETFROM:+0100
TZOFFSETTO:+0000
TZNAME:GMT
DTSTART:20251026T010000
END:STANDARD
BEGIN:DAYLIGHT
TZOFFSETFROM:+0000
TZOFFSETTO:+0100
TZNAME:IST
DTSTART:20260329T010000
END:DAYLIGHT
BEGIN:STANDARD
TZOFFSETFROM:+0100
TZOFFSETTO:+0000
TZNAME:GMT
DTSTART:20261025T010000
END:STANDARD
BEGIN:DAYLIGHT
TZOFFSETFROM:+0000
TZOFFSETTO:+0100
TZNAME:IST
DTSTART:20270328T010000
END:DAYLIGHT
BEGIN:STANDARD
TZOFFSETFROM:+0100
TZOFFSETTO:+0000
TZNAME:GMT
DTSTART:20271031T010000
END:STANDARD
END:VTIMEZONE
BEGIN:VEVENT
DTSTART;TZID=Europe/Dublin:20260423T100000
DTEND;TZID=Europe/Dublin:20260423T123000
DTSTAMP:20260423T120155
CREATED:20260205T181139Z
LAST-MODIFIED:20260206T191730Z
UID:10002775-1776938400-1776947400@maighcuilinn.net
SUMMARY:Art (Botanical art class)
DESCRIPTION:For details contact la**********@***il.com or 086 856 8185 \n\nLearn to draw and paint a variety of botanical subjects in a supportive and relaxed setting with small classes and individual attention. Students are encouraged to proceed at their own pace. Emphasis is placed on basic drawing and painting techniques\, development of observational skills\, composition\, colour theory and use of materials. \nSuitable for Beginners & Intermediates
URL:https://maighcuilinn.net/event/art-botanical-art-class/2026-04-23/
LOCATION:Seomra Glas\, Áras Uilinn\, Maigh Cuilinn\, Co. na Gaillimhe\, Ireland
CATEGORIES:Seomra Glas
END:VEVENT
BEGIN:VEVENT
DTSTART;TZID=Europe/Dublin:20260423T143000
DTEND;TZID=Europe/Dublin:20260423T153000
DTSTAMP:20260423T120155
CREATED:20260205T181139Z
LAST-MODIFIED:20260206T191659Z
UID:10002756-1776954600-1776958200@maighcuilinn.net
SUMMARY:Irish Dance
DESCRIPTION:Irish Dance classes \nContact ar****************@***il.com or 086 608 1546 for details
URL:https://maighcuilinn.net/event/irish-dance-3/2026-04-23/
LOCATION:Áras\, Áras Uilinn\, Maigh Cuilinn\, Co. na Gaillimhe
CATEGORIES:Áras
END:VEVENT
BEGIN:VEVENT
DTSTART;TZID=Europe/Dublin:20260423T170000
DTEND;TZID=Europe/Dublin:20260423T183000
DTSTAMP:20260423T120155
CREATED:20260205T181140Z
LAST-MODIFIED:20260206T191627Z
UID:10002737-1776963600-1776969000@maighcuilinn.net
SUMMARY:Irish Dance
DESCRIPTION:Irish Dance classes \nContact ar****************@***il.com or 086 608 1546 for details \nNOW ENROLLING -NEW BEGINNERS \nGirls and Boys age 4 and up. \nClasses will start the week beginning September 8th. \nWhatsApp me if you have any questions.
URL:https://maighcuilinn.net/event/irish-dance-4/2026-04-23/
LOCATION:Áras\, Áras Uilinn\, Maigh Cuilinn\, Co. na Gaillimhe
CATEGORIES:Áras
END:VEVENT
BEGIN:VEVENT
DTSTART;TZID=Europe/Dublin:20260423T170000
DTEND;TZID=Europe/Dublin:20260423T190000
DTSTAMP:20260423T120155
CREATED:20260205T181140Z
LAST-MODIFIED:20260206T191526Z
UID:10002718-1776963600-1776970800@maighcuilinn.net
SUMMARY:Karate
DESCRIPTION:Karate classes \nFor enquires contact mo*****************@***il.com or 086 275 1244.
URL:https://maighcuilinn.net/event/karate/2026-04-23/
LOCATION:Halla\, Scoil Mhuire\, Maigh Cuilinn\, Co. na Gaillimhe
CATEGORIES:Halla Mór
ATTACH;FMTTYPE=image/jpeg:https://maighcuilinn.net/wp-content/uploads/Moycullen-Karate.jpg
END:VEVENT
BEGIN:VEVENT
DTSTART;TZID=Europe/Dublin:20260423T190000
DTEND;TZID=Europe/Dublin:20260423T204500
DTSTAMP:20260423T120155
CREATED:20260205T181141Z
LAST-MODIFIED:20260206T191427Z
UID:10002699-1776970800-1776977100@maighcuilinn.net
SUMMARY:Zumba
DESCRIPTION:For enquires contact Bernie – zu*********@***il.com or 087 603 6570 \n\nWomen’s Zumba classes \nThis class will take place once a week for a duration of 4 weeks in Halla Mór Moycullen for duration of 1 hour.
URL:https://maighcuilinn.net/event/zumba/2026-04-23/
LOCATION:Halla\, Scoil Mhuire\, Maigh Cuilinn\, Co. na Gaillimhe
CATEGORIES:Halla Mór
ATTACH;FMTTYPE=image/png:https://maighcuilinn.net/wp-content/uploads/zumba.png
END:VEVENT
BEGIN:VEVENT
DTSTART;TZID=Europe/Dublin:20260423T190000
DTEND;TZID=Europe/Dublin:20260423T220000
DTSTAMP:20260423T120155
CREATED:20260205T181339Z
LAST-MODIFIED:20260206T191308Z
UID:10002680-1776970800-1776981600@maighcuilinn.net
SUMMARY:Bingo
DESCRIPTION:Community Bingo – Thursday evenings \n\nContact ke*******@*****il.com for details
URL:https://maighcuilinn.net/event/bingo/2026-04-23/
LOCATION:Áras\, Áras Uilinn\, Maigh Cuilinn\, Co. na Gaillimhe
CATEGORIES:Áras
ATTACH;FMTTYPE=image/jpeg:https://maighcuilinn.net/wp-content/uploads/community-bingo.jpg
END:VEVENT
BEGIN:VEVENT
DTSTART;TZID=Europe/Dublin:20260423T210000
DTEND;TZID=Europe/Dublin:20260423T220000
DTSTAMP:20260423T120155
CREATED:20260205T181340Z
LAST-MODIFIED:20260206T191010Z
UID:10002591-1776978000-1776981600@maighcuilinn.net
SUMMARY:Basketball
DESCRIPTION:
URL:https://maighcuilinn.net/event/basketball/2026-04-23/
LOCATION:Halla\, Scoil Mhuire\, Maigh Cuilinn\, Co. na Gaillimhe
CATEGORIES:Halla Mór
END:VEVENT
END:VCALENDAR