BEGIN:VCALENDAR
VERSION:2.0
PRODID:-//Forbairt Pobail Mhaigh Cuilinn (Maigh Cuilinn Community Development Association) - ECPv6.15.20//NONSGML v1.0//EN
CALSCALE:GREGORIAN
METHOD:PUBLISH
X-WR-CALNAME:Forbairt Pobail Mhaigh Cuilinn (Maigh Cuilinn Community Development Association)
X-ORIGINAL-URL:https://maighcuilinn.net
X-WR-CALDESC:Events for Forbairt Pobail Mhaigh Cuilinn (Maigh Cuilinn Community Development Association)
REFRESH-INTERVAL;VALUE=DURATION:PT1H
X-Robots-Tag:noindex
X-PUBLISHED-TTL:PT1H
BEGIN:VTIMEZONE
TZID:Europe/Dublin
BEGIN:DAYLIGHT
TZOFFSETFROM:+0000
TZOFFSETTO:+0100
TZNAME:IST
DTSTART:20250330T010000
END:DAYLIGHT
BEGIN:STANDARD
TZOFFSETFROM:+0100
TZOFFSETTO:+0000
TZNAME:GMT
DTSTART:20251026T010000
END:STANDARD
BEGIN:DAYLIGHT
TZOFFSETFROM:+0000
TZOFFSETTO:+0100
TZNAME:IST
DTSTART:20260329T010000
END:DAYLIGHT
BEGIN:STANDARD
TZOFFSETFROM:+0100
TZOFFSETTO:+0000
TZNAME:GMT
DTSTART:20261025T010000
END:STANDARD
BEGIN:DAYLIGHT
TZOFFSETFROM:+0000
TZOFFSETTO:+0100
TZNAME:IST
DTSTART:20270328T010000
END:DAYLIGHT
BEGIN:STANDARD
TZOFFSETFROM:+0100
TZOFFSETTO:+0000
TZNAME:GMT
DTSTART:20271031T010000
END:STANDARD
END:VTIMEZONE
BEGIN:VEVENT
DTSTART;TZID=Europe/Dublin:20260422T133000
DTEND;TZID=Europe/Dublin:20260422T164500
DTSTAMP:20260423T120109
CREATED:20260205T180940Z
LAST-MODIFIED:20260206T192142Z
UID:10002883-1776864600-1776876300@maighcuilinn.net
SUMMARY:Irish Dance
DESCRIPTION:Irish Dance classes \nContact ar****************@***il.com or 086 608 1546 for details
URL:https://maighcuilinn.net/event/irish-dance-2/2026-04-22/
LOCATION:Áras\, Áras Uilinn\, Maigh Cuilinn\, Co. na Gaillimhe
CATEGORIES:Áras
END:VEVENT
BEGIN:VEVENT
DTSTART;TZID=Europe/Dublin:20260422T154500
DTEND;TZID=Europe/Dublin:20260422T184500
DTSTAMP:20260423T120109
CREATED:20260205T180941Z
LAST-MODIFIED:20260206T192051Z
UID:10002864-1776872700-1776883500@maighcuilinn.net
SUMMARY:Project Fashion
DESCRIPTION:For details contact in**@************on.ie or 01 223 4492. \n\nUnleash your child’s creativity\, train them up in a skill that will last a lifetime and get hands on experience in a fun and educational way at our Fashion Design Workshops for children and teenagers.
URL:https://maighcuilinn.net/event/project-fashion/2026-04-22/
LOCATION:Seomra Glas\, Áras Uilinn\, Maigh Cuilinn\, Co. na Gaillimhe\, Ireland
CATEGORIES:Seomra Glas
ATTACH;FMTTYPE=image/png:https://maighcuilinn.net/wp-content/uploads/Project-Fashion-Logo-600-400x71-1.png
END:VEVENT
BEGIN:VEVENT
DTSTART;TZID=Europe/Dublin:20260422T160000
DTEND;TZID=Europe/Dublin:20260422T200000
DTSTAMP:20260423T120109
CREATED:20260205T180942Z
LAST-MODIFIED:20260206T191835Z
UID:10002845-1776873600-1776888000@maighcuilinn.net
SUMMARY:Drumadore
DESCRIPTION:For details contact 085 7238887 or dr****************@***il.com \n\nDrumadore is Ireland’s largest provider of group drumming lessons\, offering a fun and engaging way to learn drumming while building friendships and benefiting from the power of music. Our goal is to provide a clear pathway for students of all ages\, from beginners to aspiring professionals\, to develop their drumming skills over time.
URL:https://maighcuilinn.net/event/drumadore/2026-04-22/
LOCATION:Halla\, Scoil Mhuire\, Maigh Cuilinn\, Co. na Gaillimhe
CATEGORIES:Halla Mór
ATTACH;FMTTYPE=image/jpeg:https://maighcuilinn.net/wp-content/uploads/drumadore-schedule.jpg
END:VEVENT
BEGIN:VEVENT
DTSTART;TZID=Europe/Dublin:20260422T201500
DTEND;TZID=Europe/Dublin:20260422T221500
DTSTAMP:20260423T120109
CREATED:20260205T180944Z
LAST-MODIFIED:20260206T191800Z
UID:10002794-1776888900-1776896100@maighcuilinn.net
SUMMARY:Church of Christ
DESCRIPTION:Church of Christ services
URL:https://maighcuilinn.net/event/church-of-christ-2/2026-04-22/
LOCATION:Áras\, Áras Uilinn\, Maigh Cuilinn\, Co. na Gaillimhe
CATEGORIES:Áras
END:VEVENT
END:VCALENDAR