BEGIN:VCALENDAR
VERSION:2.0
PRODID:-//Forbairt Pobail Mhaigh Cuilinn (Maigh Cuilinn Community Development Association) - ECPv6.15.20//NONSGML v1.0//EN
CALSCALE:GREGORIAN
METHOD:PUBLISH
X-WR-CALNAME:Forbairt Pobail Mhaigh Cuilinn (Maigh Cuilinn Community Development Association)
X-ORIGINAL-URL:https://maighcuilinn.net
X-WR-CALDESC:Events for Forbairt Pobail Mhaigh Cuilinn (Maigh Cuilinn Community Development Association)
REFRESH-INTERVAL;VALUE=DURATION:PT1H
X-Robots-Tag:noindex
X-PUBLISHED-TTL:PT1H
BEGIN:VTIMEZONE
TZID:Europe/Dublin
BEGIN:DAYLIGHT
TZOFFSETFROM:+0000
TZOFFSETTO:+0100
TZNAME:IST
DTSTART:20250330T010000
END:DAYLIGHT
BEGIN:STANDARD
TZOFFSETFROM:+0100
TZOFFSETTO:+0000
TZNAME:GMT
DTSTART:20251026T010000
END:STANDARD
BEGIN:DAYLIGHT
TZOFFSETFROM:+0000
TZOFFSETTO:+0100
TZNAME:IST
DTSTART:20260329T010000
END:DAYLIGHT
BEGIN:STANDARD
TZOFFSETFROM:+0100
TZOFFSETTO:+0000
TZNAME:GMT
DTSTART:20261025T010000
END:STANDARD
BEGIN:DAYLIGHT
TZOFFSETFROM:+0000
TZOFFSETTO:+0100
TZNAME:IST
DTSTART:20270328T010000
END:DAYLIGHT
BEGIN:STANDARD
TZOFFSETFROM:+0100
TZOFFSETTO:+0000
TZNAME:GMT
DTSTART:20271031T010000
END:STANDARD
END:VTIMEZONE
BEGIN:VEVENT
DTSTART;TZID=Europe/Dublin:20260420T103000
DTEND;TZID=Europe/Dublin:20260420T123000
DTSTAMP:20260423T120021
CREATED:20260205T180734Z
LAST-MODIFIED:20260206T192804Z
UID:10003048-1776681000-1776688200@maighcuilinn.net
SUMMARY:Active Retirement
DESCRIPTION:Moycullen Activities & Social Group – Active Retirement \nMeet on Monday mornings and go on outings throughout the year. \nTo join or for information contact mo***********************@***il.com
URL:https://maighcuilinn.net/event/active-retirement/2026-04-20/
LOCATION:Seomra Glas\, Áras Uilinn\, Maigh Cuilinn\, Co. na Gaillimhe\, Ireland
CATEGORIES:Seomra Glas
END:VEVENT
BEGIN:VEVENT
DTSTART;TZID=Europe/Dublin:20260420T144500
DTEND;TZID=Europe/Dublin:20260420T164500
DTSTAMP:20260423T120021
CREATED:20260205T180734Z
LAST-MODIFIED:20260206T192731Z
UID:10003029-1776696300-1776703500@maighcuilinn.net
SUMMARY:Phoenix Stage School
DESCRIPTION:For details contact cl****@****************ol.com or 086 400 8033 \n\nGALWAY’S LEADING DANCE DRAMA SINGING STAGE SCHOOL\n \nPhoenix Stage School provides education\, entertainment and recreation for over 200 students aged 5 through to 18 years in a lively and nurturing environment through dance and musical theatre. \nWe offer a wide range of classes in Jazz\, Lyrical\, Hiphop\, Ballet\, Technique\, Musical Theatre\, Singing and Drama. \nIf your child simply loves to perform\, dance\, sing and act\, we invite them to join the fun at Phoenix Stage School and be a part of something fabulous!
URL:https://maighcuilinn.net/event/phoenix-stage-school/2026-04-20/
LOCATION:Seomra Glas\,Áras\,Halla
CATEGORIES:Multiple rooms
ATTACH;FMTTYPE=image/jpeg:https://maighcuilinn.net/wp-content/uploads/Phoenix-Stage-School-2023-logo.jpg
END:VEVENT
BEGIN:VEVENT
DTSTART;TZID=Europe/Dublin:20260420T170000
DTEND;TZID=Europe/Dublin:20260420T180000
DTSTAMP:20260423T120021
CREATED:20260205T180735Z
LAST-MODIFIED:20260206T192627Z
UID:10003010-1776704400-1776708000@maighcuilinn.net
SUMMARY:Irish Dance
DESCRIPTION:Irish Dance classes \nContact ar****************@***il.com or 086 608 1546 for details
URL:https://maighcuilinn.net/event/irish-dance/2026-04-20/
LOCATION:Áras\, Áras Uilinn\, Maigh Cuilinn\, Co. na Gaillimhe
CATEGORIES:Áras
END:VEVENT
BEGIN:VEVENT
DTSTART;TZID=Europe/Dublin:20260420T190000
DTEND;TZID=Europe/Dublin:20260420T210000
DTSTAMP:20260423T120021
CREATED:20260205T180746Z
LAST-MODIFIED:20260206T192432Z
UID:10002991-1776711600-1776718800@maighcuilinn.net
SUMMARY:Bridge
DESCRIPTION:
URL:https://maighcuilinn.net/event/bridge-2/2026-04-20/
LOCATION:Seomra Glas\, Áras Uilinn\, Maigh Cuilinn\, Co. na Gaillimhe\, Ireland
CATEGORIES:Seomra Glas
END:VEVENT
BEGIN:VEVENT
DTSTART;TZID=Europe/Dublin:20260420T210000
DTEND;TZID=Europe/Dublin:20260420T220000
DTSTAMP:20260423T120021
CREATED:20260205T180747Z
LAST-MODIFIED:20260206T192342Z
UID:10002940-1776718800-1776722400@maighcuilinn.net
SUMMARY:Booking
DESCRIPTION:
URL:https://maighcuilinn.net/event/booking-2/2026-04-20/
LOCATION:Áras\, Áras Uilinn\, Maigh Cuilinn\, Co. na Gaillimhe
CATEGORIES:Áras
END:VEVENT
END:VCALENDAR